BEGIN:VCALENDAR
VERSION:2.0
PRODID:-//Total Athlete - ECPv6.15.20//NONSGML v1.0//EN
CALSCALE:GREGORIAN
METHOD:PUBLISH
X-WR-CALNAME:Total Athlete
X-ORIGINAL-URL:https://total-athlete.nl
X-WR-CALDESC:Evenementen voor Total Athlete
REFRESH-INTERVAL;VALUE=DURATION:PT1H
X-Robots-Tag:noindex
X-PUBLISHED-TTL:PT1H
BEGIN:VTIMEZONE
TZID:Europe/Amsterdam
BEGIN:DAYLIGHT
TZOFFSETFROM:+0100
TZOFFSETTO:+0200
TZNAME:CEST
DTSTART:20240331T010000
END:DAYLIGHT
BEGIN:STANDARD
TZOFFSETFROM:+0200
TZOFFSETTO:+0100
TZNAME:CET
DTSTART:20241027T010000
END:STANDARD
BEGIN:DAYLIGHT
TZOFFSETFROM:+0100
TZOFFSETTO:+0200
TZNAME:CEST
DTSTART:20250330T010000
END:DAYLIGHT
BEGIN:STANDARD
TZOFFSETFROM:+0200
TZOFFSETTO:+0100
TZNAME:CET
DTSTART:20251026T010000
END:STANDARD
BEGIN:DAYLIGHT
TZOFFSETFROM:+0100
TZOFFSETTO:+0200
TZNAME:CEST
DTSTART:20260329T010000
END:DAYLIGHT
BEGIN:STANDARD
TZOFFSETFROM:+0200
TZOFFSETTO:+0100
TZNAME:CET
DTSTART:20261025T010000
END:STANDARD
END:VTIMEZONE
BEGIN:VEVENT
DTSTART;TZID=Europe/Amsterdam:20251104T200000
DTEND;TZID=Europe/Amsterdam:20251104T213000
DTSTAMP:20260421T104846
CREATED:20251009T134556Z
LAST-MODIFIED:20251009T134804Z
UID:8667-1762286400-1762291800@total-athlete.nl
SUMMARY:Word je eigen coach / Module 3 : Techniektraining en weekplanning
DESCRIPTION:Ben jij een triatleet of duursporter met de ambitie om je eigen coach te worden? Tijdens deze online introductieavond maak je kennis met de opzet en inhoud van de training Word je eigen coach. We nemen je mee langs de vijf modules en laten zien hoe jij zelfstandig én doelgericht aan je eigen sportontwikkeling kunt werken. \nVijf modules\, één doel: zelfverzekerd trainen\nVan jaarplanning tot wedstrijdvoorbereiding: je krijgt inzicht in alles wat nodig is om zelfstandig te trainen op niveau. Denk aan het begrijpen van energiesystemen\, het gebruiken van TrainingPeaks\, het analyseren van trainingsdata en het versterken van je mentale focus. Ook lichten we toe hoe je met praktische opdrachten en een helder cursusboek aan de slag gaat. \nMeer informatie\nVoor alle praktische informatie. Download de Brochure Word je eigen coach najaar 2025 \nModule 3 : Techniektraining en weekplanning\n\nWe verdiepen ons in de technieken van het zwemmen\, fietsen en hardlopen\nWe staan stil bij typen trainingen: techniek\, duur\, interval.\nJe leert workouts maken en een week plannen.\n\nMeld je nu aan\n€299.00Toevoegen aan winkelwagen
URL:https://total-athlete.nl/event/word-je-eigen-coach-module-3-techniektraining-en-weekplanning/
CATEGORIES:Coaching
END:VEVENT
BEGIN:VEVENT
DTSTART;TZID=Europe/Amsterdam:20251111T200000
DTEND;TZID=Europe/Amsterdam:20251111T213000
DTSTAMP:20260421T104846
CREATED:20251009T134716Z
LAST-MODIFIED:20251009T134716Z
UID:8669-1762891200-1762896600@total-athlete.nl
SUMMARY:Word je eigen coach / Module 4 : Beter worden en piekmomenten plannen
DESCRIPTION:Ben jij een triatleet of duursporter met de ambitie om je eigen coach te worden? Tijdens deze online introductieavond maak je kennis met de opzet en inhoud van de training Word je eigen coach. We nemen je mee langs de vijf modules en laten zien hoe jij zelfstandig én doelgericht aan je eigen sportontwikkeling kunt werken. \nVijf modules\, één doel: zelfverzekerd trainen\nVan jaarplanning tot wedstrijdvoorbereiding: je krijgt inzicht in alles wat nodig is om zelfstandig te trainen op niveau. Denk aan het begrijpen van energiesystemen\, het gebruiken van TrainingPeaks\, het analyseren van trainingsdata en het versterken van je mentale focus. Ook lichten we toe hoe je met praktische opdrachten en een helder cursusboek aan de slag gaat. \nMeer informatie\nVoor alle praktische informatie. Download de Brochure Word je eigen coach najaar 2025 \nModule 4 : Beter worden en piekmomenten plannen\n\nJe leert gegevens analyseren en hierop te anticiperen voor de volgende trainingscycli\nJe leert over de verschillende manieren waarop je je voortgang kunt meten\, waaronder tests.\n\nMeld je nu aan\n€299.00Toevoegen aan winkelwagen
URL:https://total-athlete.nl/event/word-je-eigen-coach-module-4-beter-worden-en-piekmomenten-plannen/
CATEGORIES:Coaching
END:VEVENT
BEGIN:VEVENT
DTSTART;TZID=Europe/Amsterdam:20251118T200000
DTEND;TZID=Europe/Amsterdam:20251118T213000
DTSTAMP:20260421T104846
CREATED:20251009T134951Z
LAST-MODIFIED:20251009T134951Z
UID:8672-1763496000-1763501400@total-athlete.nl
SUMMARY:Word je eigen coach / Module 5 : Mindset en wedstrijdvoorbereiding
DESCRIPTION:Ben jij een triatleet of duursporter met de ambitie om je eigen coach te worden? Tijdens deze online introductieavond maak je kennis met de opzet en inhoud van de training Word je eigen coach. We nemen je mee langs de vijf modules en laten zien hoe jij zelfstandig én doelgericht aan je eigen sportontwikkeling kunt werken. \nVijf modules\, één doel: zelfverzekerd trainen\nVan jaarplanning tot wedstrijdvoorbereiding: je krijgt inzicht in alles wat nodig is om zelfstandig te trainen op niveau. Denk aan het begrijpen van energiesystemen\, het gebruiken van TrainingPeaks\, het analyseren van trainingsdata en het versterken van je mentale focus. Ook lichten we toe hoe je met praktische opdrachten en een helder cursusboek aan de slag gaat. \nMeer informatie\nVoor alle praktische informatie. Download de Brochure Word je eigen coach najaar 2025 \nModule 5 : Mindset en wedstrijdvoorbereiding\n\nJe leert mentale trainingstechnieken die helpen vooraf en tijdens belangrijke sportmomenten\nJe leert jezelf en anderen optimaal voor te bereiden voor het piekmoment\n\nMeld je nu aan\n€299.00Toevoegen aan winkelwagen
URL:https://total-athlete.nl/event/word-je-eigen-coach-module-5-mindset-en-wedstrijdvoorbereiding/
CATEGORIES:Coaching
END:VEVENT
END:VCALENDAR