BEGIN:VCALENDAR
VERSION:2.0
PRODID:-//Total Athlete - ECPv6.15.20//NONSGML v1.0//EN
CALSCALE:GREGORIAN
METHOD:PUBLISH
X-WR-CALNAME:Total Athlete
X-ORIGINAL-URL:https://total-athlete.nl
X-WR-CALDESC:Evenementen voor Total Athlete
REFRESH-INTERVAL;VALUE=DURATION:PT1H
X-Robots-Tag:noindex
X-PUBLISHED-TTL:PT1H
BEGIN:VTIMEZONE
TZID:Europe/Amsterdam
BEGIN:DAYLIGHT
TZOFFSETFROM:+0100
TZOFFSETTO:+0200
TZNAME:CEST
DTSTART:20220327T010000
END:DAYLIGHT
BEGIN:STANDARD
TZOFFSETFROM:+0200
TZOFFSETTO:+0100
TZNAME:CET
DTSTART:20221030T010000
END:STANDARD
BEGIN:DAYLIGHT
TZOFFSETFROM:+0100
TZOFFSETTO:+0200
TZNAME:CEST
DTSTART:20230326T010000
END:DAYLIGHT
BEGIN:STANDARD
TZOFFSETFROM:+0200
TZOFFSETTO:+0100
TZNAME:CET
DTSTART:20231029T010000
END:STANDARD
BEGIN:DAYLIGHT
TZOFFSETFROM:+0100
TZOFFSETTO:+0200
TZNAME:CEST
DTSTART:20240331T010000
END:DAYLIGHT
BEGIN:STANDARD
TZOFFSETFROM:+0200
TZOFFSETTO:+0100
TZNAME:CET
DTSTART:20241027T010000
END:STANDARD
END:VTIMEZONE
BEGIN:VEVENT
DTSTART;TZID=Europe/Amsterdam:20231021T213000
DTEND;TZID=Europe/Amsterdam:20231021T223000
DTSTAMP:20260423T090137
CREATED:20231002T155936Z
LAST-MODIFIED:20231222T071742Z
UID:6299-1697923800-1697927400@total-athlete.nl
SUMMARY:Hardloop clinic
DESCRIPTION:Wil jij je hardlooptechniek verbeteren\, je snelheid verhogen en blessures voorkomen? Doe mee met onze hardloopclinic en ontdek het geheim van de souplessemethode. \nHet belang van een goede techniek\nWe nemen een uitgebreide warming-up\, met verschillende looptechnieken en “loopscholing”. Een trots houding\, hoge knie-inzet en het mee bewegen van je armen. Dit zijn allemaal belangrijke onderdelen voor een soepele loop. Tijdens het lopen zal je tips krijgen\, deze directe feedback kan je weer meenemen tijdens je eigen trainingen! \nSouplesse\nRaak je snel uitgekeken op je standaard rondje? Dan is het toevoegen van intervals een must. Maar hoe doe je dit? En welke intervals zijn belangijk om beter te worden. In deze training vertel ik over de verschillende typen intervals en gaan we dit ook ervaren. \nWeerstand\nTrainen onder weerstand is belangrijk om je spieren en gewrichten sterker te maken. Wat we bij Total Athlete vaak doen is het toevoegen van viaduct- of heuveltraining. Deze clinic is in het Kardingegebied\, waar ook de Kardingeberg staat. We gaan ervaren en leren hoe het is om met weerstand te trainen.
URL:https://total-athlete.nl/event/hardloop-clinic/
LOCATION:Kardinge\, Kardingerplein 1\, Groningen\, 9735 AA
CATEGORIES:Hardlopen,Road 2 Luxembourg
ATTACH;FMTTYPE=image/jpeg:https://total-athlete.nl/wp-content/uploads/2023/09/WhatsApp-Image-2023-09-07-at-10.33.39-1.jpeg
END:VEVENT
END:VCALENDAR