BEGIN:VCALENDAR
VERSION:2.0
PRODID:-//Total Athlete - ECPv6.15.20//NONSGML v1.0//EN
CALSCALE:GREGORIAN
METHOD:PUBLISH
X-WR-CALNAME:Total Athlete
X-ORIGINAL-URL:https://total-athlete.nl
X-WR-CALDESC:Evenementen voor Total Athlete
REFRESH-INTERVAL;VALUE=DURATION:PT1H
X-Robots-Tag:noindex
X-PUBLISHED-TTL:PT1H
BEGIN:VTIMEZONE
TZID:Europe/Amsterdam
BEGIN:DAYLIGHT
TZOFFSETFROM:+0100
TZOFFSETTO:+0200
TZNAME:CEST
DTSTART:20240331T010000
END:DAYLIGHT
BEGIN:STANDARD
TZOFFSETFROM:+0200
TZOFFSETTO:+0100
TZNAME:CET
DTSTART:20241027T010000
END:STANDARD
BEGIN:DAYLIGHT
TZOFFSETFROM:+0100
TZOFFSETTO:+0200
TZNAME:CEST
DTSTART:20250330T010000
END:DAYLIGHT
BEGIN:STANDARD
TZOFFSETFROM:+0200
TZOFFSETTO:+0100
TZNAME:CET
DTSTART:20251026T010000
END:STANDARD
BEGIN:DAYLIGHT
TZOFFSETFROM:+0100
TZOFFSETTO:+0200
TZNAME:CEST
DTSTART:20260329T010000
END:DAYLIGHT
BEGIN:STANDARD
TZOFFSETFROM:+0200
TZOFFSETTO:+0100
TZNAME:CET
DTSTART:20261025T010000
END:STANDARD
END:VTIMEZONE
BEGIN:VEVENT
DTSTART;TZID=Europe/Amsterdam:20251014T203000
DTEND;TZID=Europe/Amsterdam:20251014T213000
DTSTAMP:20260421T172527
CREATED:20241017T102109Z
LAST-MODIFIED:20251018T104057Z
UID:7327-1760473800-1760477400@total-athlete.nl
SUMMARY:Word je Eigen Coach – Online Infoavond
DESCRIPTION:Ben jij een triatleet of duursporter met de ambitie om je eigen coach te worden? Tijdens deze online introductieavond maak je kennis met de opzet en inhoud van de training Self Coached Athlete. We nemen je mee langs de vijf modules en laten zien hoe jij zelfstandig én doelgericht aan je eigen sportontwikkeling kunt werken. \nVijf modules\, één doel: zelfverzekerd trainen\nVan jaarplanning tot wedstrijdvoorbereiding: je krijgt inzicht in alles wat nodig is om zelfstandig te trainen op niveau. Denk aan het begrijpen van energiesystemen\, het gebruiken van TrainingPeaks\, het analyseren van trainingsdata en het versterken van je mentale focus. Ook lichten we toe hoe je met praktische opdrachten en een helder cursusboek aan de slag gaat. \nStel je vragen en maak je keuze\nTwijfel je nog of deze training iets voor jou is? Tijdens deze sessie krijg je de kans om al je vragen te stellen. Na deze avond weet je precies wat je kunt verwachten en of dit het juiste moment is om in te stappen. Voor veel deelnemers is dit hét moment waarop alles op z’n plek valt. \nMeer informatie\nVoor alle praktische informatie: \nDownload de Brochure Word je eigen coach najaar 2025 \nMeld je nu aan voor de cursus\n€299.00Toevoegen aan winkelwagen
URL:https://total-athlete.nl/event/self-coached-infoavond/
CATEGORIES:Coaching,Fietsen,Hardlopen,Triathlon,Zwemmen
ATTACH;FMTTYPE=image/jpeg:https://total-athlete.nl/wp-content/uploads/2023/08/IMG-20230826-WA0018cropp-e1693401440621.jpg
END:VEVENT
BEGIN:VEVENT
DTSTART;TZID=Europe/Amsterdam:20251019T090000
DTEND;TZID=Europe/Amsterdam:20251019T120000
DTSTAMP:20260421T172527
CREATED:20251014T070801Z
LAST-MODIFIED:20251014T070801Z
UID:8713-1760864400-1760875200@total-athlete.nl
SUMMARY:Duurloop Groningen - Assen
DESCRIPTION:GA JE MEE MET DE LANGE DUURLOOP? 🏃‍♂ \nNog 5 weken tot de TT Marathon! \nHopelijk heeft iedereen de motivatie weer te pakken en zin om op 16 november te vlammen. \nGisteren liep ik (Christel) van Assen naar Hoogeveen — prachtig stuk\, maar eerlijk gezegd ook best eenzaam zo lang alleen. Dus… ik dacht: \nVolgende week doen we het samen! \nOp zondag 19 oktober staat er een lange duurloop van 3 uur op het programma. Perfect om samen meters te maken\, elkaar te motiveren en gewoon lekker lang onderweg te zijn. \n🟢 Het plan:\n🚆 We pakken OM 8.37 uur de trein naar Groningen\n🏃‍♀ We rennen terug naar Assen\, met een mooie lus van in totaal zo’n 3 uur lopen\n🕕 Tempo: ongeveer 6:00 min/km\n(Als je iets harder of zachter wilt lopen kan dat natuurlijk ook — daar komen we samen vast uit!)\n🔁 Na een warming-up van 30 minuten doen we elke 10 minuten 1 minuut versnellen – even hart en hoofd prikkelen – daarna weer rustig tempo \nHet draait niet om snelheid\, maar om ‘time on your feet’: je lichaam laten wennen aan langere inspanning. \n! Woon je in Groningen of omgeving? Dan kun je natuurlijk ook daar starten en na afloop met de trein weer terug. \n👉 Belangrijk:\nEr zijn geen kosten aan verbonden. (Alleen je eigen treinkaartje)\nIedereen is welkom: ook als je niet meedoet aan de TT Marathon\, maar gewoon zin hebt in een gezellige\, lange duurloop. \nDoe je mee?\nVul dan het aanmeldformulier in \nZo weet ik wie er meedoen en kunnen we eventueel groepjes maken. \nKen je iemand die dit ook leuk zou vinden? Neem mee\, hoe meer zielen\, hoe meer vreugd! Deel mijn bericht ook op socials zodat het veel mensen zal bereiken!\nSamen trainen = samen sterker aan de start (of gewoon trots aan de finish 😉). \nTot zondag 19 oktober!
URL:https://total-athlete.nl/event/duurloop-groningen-assen/
LOCATION:Centraal Station Groningen\, Stationsplein 4\, Groningen
CATEGORIES:Hardlopen
ATTACH;FMTTYPE=image/jpeg:https://total-athlete.nl/wp-content/uploads/2025/10/Afbeelding-van-WhatsApp-op-2025-10-14-om-09.01.55_e9bc1594.jpg
ORGANIZER;CN="Christel de Jong":MAILTO:christel@total-athlete.nl
END:VEVENT
END:VCALENDAR