BEGIN:VCALENDAR
VERSION:2.0
PRODID:-//Total Athlete - ECPv6.15.20//NONSGML v1.0//EN
CALSCALE:GREGORIAN
METHOD:PUBLISH
X-WR-CALNAME:Total Athlete
X-ORIGINAL-URL:https://total-athlete.nl
X-WR-CALDESC:Evenementen voor Total Athlete
REFRESH-INTERVAL;VALUE=DURATION:PT1H
X-Robots-Tag:noindex
X-PUBLISHED-TTL:PT1H
BEGIN:VTIMEZONE
TZID:Europe/Amsterdam
BEGIN:DAYLIGHT
TZOFFSETFROM:+0100
TZOFFSETTO:+0200
TZNAME:CEST
DTSTART:20220327T010000
END:DAYLIGHT
BEGIN:STANDARD
TZOFFSETFROM:+0200
TZOFFSETTO:+0100
TZNAME:CET
DTSTART:20221030T010000
END:STANDARD
BEGIN:DAYLIGHT
TZOFFSETFROM:+0100
TZOFFSETTO:+0200
TZNAME:CEST
DTSTART:20230326T010000
END:DAYLIGHT
BEGIN:STANDARD
TZOFFSETFROM:+0200
TZOFFSETTO:+0100
TZNAME:CET
DTSTART:20231029T010000
END:STANDARD
BEGIN:DAYLIGHT
TZOFFSETFROM:+0100
TZOFFSETTO:+0200
TZNAME:CEST
DTSTART:20240331T010000
END:DAYLIGHT
BEGIN:STANDARD
TZOFFSETFROM:+0200
TZOFFSETTO:+0100
TZNAME:CET
DTSTART:20241027T010000
END:STANDARD
END:VTIMEZONE
BEGIN:VEVENT
DTSTART;TZID=Europe/Amsterdam:20231216T203000
DTEND;TZID=Europe/Amsterdam:20231216T213000
DTSTAMP:20260421T032239
CREATED:20231002T174540Z
LAST-MODIFIED:20231222T071741Z
UID:6315-1702758600-1702762200@total-athlete.nl
SUMMARY:Online fiets Clinic
DESCRIPTION:Stap in het zadel voor onze online racefiets clinic en ontdek de geheimen van het wielrennen vanuit het comfort van je eigen huis! Of je nu een beginnende fietser bent of al ervaring hebt\, we zullen je deskundig begeleiden in het optimaliseren van je techniek en prestaties. Schrijf je nu in en maak je klaar om jezelf naar nieuwe snelheden te trappen\, terwijl je tips en tricks leert om het meeste uit je racefietservaring te halen. Fiets met ons mee en bereik je doelen op de weg!
URL:https://total-athlete.nl/event/online-fiets-clinic/
CATEGORIES:Fietsen,Road 2 Luxembourg,Stramme takken
ATTACH;FMTTYPE=image/jpeg:https://total-athlete.nl/wp-content/uploads/2023/07/IMG_20200917_204826029-scaled-1.jpg
END:VEVENT
BEGIN:VEVENT
DTSTART;TZID=Europe/Amsterdam:20231225T090000
DTEND;TZID=Europe/Amsterdam:20231231T180000
DTSTAMP:20260421T032239
CREATED:20231002T175707Z
LAST-MODIFIED:20231222T071741Z
UID:6318-1703494800-1704045600@total-athlete.nl
SUMMARY:Total Athlete Christmas Run Challenge
DESCRIPTION:Een jaarlijks terugkerend evenement\, onze Total Athlete Christmas Run Challenge! Ga jij deze uitdaging in 2024 met ons aan? Een week lang hardlopen op een rustig tempo waarbij je elke dag jouw afstand of tijd verdubbeld. \nBedoeling\nDe bedoeling is om vijf dagen achtereen te lopen. Het tempo ligt rond Z2+. Elke dag loop je iets langer. Je bouwt hiermee veel uithoudingsvermogen op. En krijgt een enorme mentale boost aan het einde van het jaar! \nJe kunt kiezen uit: \nOptie D\n5 km – 7\,5 km – 10 km – 15 km – 21\,1 km \nOptie C\n20 min – 40 min – 60 in – 80 min – 100 min \nOptie B\n10 min – 20 min – 30 min – 40 min – 50 min \nOptie A \n5 min – 10 min – 15 min – 20 min – 25 mi
URL:https://total-athlete.nl/event/total-athlete-christmas-run-challenge/
CATEGORIES:Hardlopen,Road 2 Luxembourg
ATTACH;FMTTYPE=image/jpeg:https://total-athlete.nl/wp-content/uploads/2023/09/Tomas-Jouke-Hans-e1731579275220.jpg
ORGANIZER;CN="Gerben Wassink":MAILTO:gerbenwassink@hotmail.com
END:VEVENT
END:VCALENDAR