BEGIN:VCALENDAR
VERSION:2.0
PRODID:-//Total Athlete - ECPv6.15.20//NONSGML v1.0//EN
CALSCALE:GREGORIAN
METHOD:PUBLISH
X-ORIGINAL-URL:https://total-athlete.nl
X-WR-CALDESC:Evenementen voor Total Athlete
REFRESH-INTERVAL;VALUE=DURATION:PT1H
X-Robots-Tag:noindex
X-PUBLISHED-TTL:PT1H
BEGIN:VTIMEZONE
TZID:Europe/Amsterdam
BEGIN:DAYLIGHT
TZOFFSETFROM:+0100
TZOFFSETTO:+0200
TZNAME:CEST
DTSTART:20230326T010000
END:DAYLIGHT
BEGIN:STANDARD
TZOFFSETFROM:+0200
TZOFFSETTO:+0100
TZNAME:CET
DTSTART:20231029T010000
END:STANDARD
BEGIN:DAYLIGHT
TZOFFSETFROM:+0100
TZOFFSETTO:+0200
TZNAME:CEST
DTSTART:20240331T010000
END:DAYLIGHT
BEGIN:STANDARD
TZOFFSETFROM:+0200
TZOFFSETTO:+0100
TZNAME:CET
DTSTART:20241027T010000
END:STANDARD
BEGIN:DAYLIGHT
TZOFFSETFROM:+0100
TZOFFSETTO:+0200
TZNAME:CEST
DTSTART:20250330T010000
END:DAYLIGHT
BEGIN:STANDARD
TZOFFSETFROM:+0200
TZOFFSETTO:+0100
TZNAME:CET
DTSTART:20251026T010000
END:STANDARD
END:VTIMEZONE
BEGIN:VEVENT
DTSTART;TZID=Europe/Amsterdam:20240208T193000
DTEND;TZID=Europe/Amsterdam:20240208T203000
DTSTAMP:20260421T000733
CREATED:20231003T163136Z
LAST-MODIFIED:20240131T115731Z
UID:6340-1707420600-1707424200@total-athlete.nl
SUMMARY:Hardloop clinic
DESCRIPTION:Wil jij je hardlooptechniek verbeteren\, je snelheid verhogen en blessures voorkomen? Doe mee met onze hardloopclinic en ontdek de geheimen van efficiënt en plezierig hardlopen.  We staan klaar om je te begeleiden naar jouw hardloopdoelen. Schrijf je nu in en zet de eerste stap naar een betere hardloopervaring! \nOp donderdag 8 februari om 19:30 geef ik een hardloop clinic voor beginners en gevorderden! \nHet is mijn passie en missie om jou een betere loper te maken. En.. om blessures te voorkomen. \nEn niet in de laatste plaats om plezier in het hardlopen te hebben.
URL:https://total-athlete.nl/event/hardloop-clinic-2/
LOCATION:Kardinge\, Kardingerplein 1\, Groningen\, 9735 AA
CATEGORIES:Hardlopen,Road 2 Luxembourg
ATTACH;FMTTYPE=image/jpeg:https://total-athlete.nl/wp-content/uploads/2023/09/WhatsApp-Image-2023-09-07-at-10.33.39-1.jpeg
END:VEVENT
END:VCALENDAR