BEGIN:VCALENDAR
VERSION:2.0
PRODID:-//Total Athlete - ECPv6.15.20//NONSGML v1.0//EN
CALSCALE:GREGORIAN
METHOD:PUBLISH
X-WR-CALNAME:Total Athlete
X-ORIGINAL-URL:https://total-athlete.nl
X-WR-CALDESC:Evenementen voor Total Athlete
REFRESH-INTERVAL;VALUE=DURATION:PT1H
X-Robots-Tag:noindex
X-PUBLISHED-TTL:PT1H
BEGIN:VTIMEZONE
TZID:Europe/Amsterdam
BEGIN:DAYLIGHT
TZOFFSETFROM:+0100
TZOFFSETTO:+0200
TZNAME:CEST
DTSTART:20230326T010000
END:DAYLIGHT
BEGIN:STANDARD
TZOFFSETFROM:+0200
TZOFFSETTO:+0100
TZNAME:CET
DTSTART:20231029T010000
END:STANDARD
BEGIN:DAYLIGHT
TZOFFSETFROM:+0100
TZOFFSETTO:+0200
TZNAME:CEST
DTSTART:20240331T010000
END:DAYLIGHT
BEGIN:STANDARD
TZOFFSETFROM:+0200
TZOFFSETTO:+0100
TZNAME:CET
DTSTART:20241027T010000
END:STANDARD
BEGIN:DAYLIGHT
TZOFFSETFROM:+0100
TZOFFSETTO:+0200
TZNAME:CEST
DTSTART:20250330T010000
END:DAYLIGHT
BEGIN:STANDARD
TZOFFSETFROM:+0200
TZOFFSETTO:+0100
TZNAME:CET
DTSTART:20251026T010000
END:STANDARD
END:VTIMEZONE
BEGIN:VEVENT
DTSTART;TZID=Europe/Amsterdam:20240330T130000
DTEND;TZID=Europe/Amsterdam:20240330T170000
DTSTAMP:20260420T221559
CREATED:20231003T181649Z
LAST-MODIFIED:20240403T091507Z
UID:6355-1711803600-1711818000@total-athlete.nl
SUMMARY:Social group ride
DESCRIPTION:Kom samen met ons wielrennen en geniet van de kracht van de groep! Sluit je aan bij onze social group ride en deel de passie voor het fietsen met gelijkgestemde fietsers. Laten we samen de weg op gaan\, kilometers maken en plezier hebben. En achteraf samen een pizza eten. \nNoorderrondrit route\nDe Noorderrondritten op de fiets bestaat uit twee lussen van 84 en 60 kilometer\, samen 144 kilometer. De route is bewegwijzerd (in 1 richting) en gaat over wegen en paden die uitermate geschikt zijn voor racefietsers en andere sportieve fietsers. Er is volop ruimte voor groepjes en de omstandigheden zijn ideaal voor een heerlijke tocht op de racefiets door het Groninger land! Onderdendam vormt het hart van de route\, beide lussen komen daar samen. De route kan echter overal worden gestart. De route brengt je langs unieke plekken als Westerdijkshorn\, Loppersum\, Appingedam\, Holwierde\, Uithuizen\, Middelstum\, Fraamklap\, Baflo\, Pieterburen\, Zoutkamp en Winsum.\n\n\n\n\nLangs de route is er op tal van plekken gelegenheid om te genieten van koffie met wat lekkers. Daarnaast zijn er ook allerlei plekken te vinden waar je als racefietser(groep) heerlijk kunt overnachten en eten.\n\n\nWe denken aan het fietsen van de lange route van de Noorderrondrit (144 kilometer). De geoefende fietser kan de hele route fietsen. Het is ook mogelijk om één lus te fietsen. En er is  een cut-off\, waardoor je een deel van de route fietst. Startpunt is Café Moeke Vaatstra\, Zuidwolde. Vanaf daar volgen we de bewegwijzering. Voor de route ga naar deze website.\n\nFietsniveau\nWij inventariseren het fietsniveau om te bepalen of we in één of meerdere groepen zullen fietsen. Zodat de fietsbeleving voor ieder leuk is. Na afloop is er de gelegenheid om een heerlijke\, zelfgemaakte Napolitaanse pizza te eten met elkaar in Beijum. \nVeiligheid\nDeelname is op eigen risico. Het is een gezellig evenement\, de routes worden niet afgezet. Houdt dus rekening met andere weggebruikers. En voor het fietsen in een groep\, houd rekening met elkaar en wijs elkaar op tegenliggers\, obstakels en plotseling langzamer fietsen of stoppen. Voorafgaand worden de signalen hierover besproken met elkaar.
URL:https://total-athlete.nl/event/social-group-ride/
LOCATION:Moeke Vaatstra\, Boterdiep Westzijde 45\, Zuidwolde\, Nederland
CATEGORIES:Fietsen,Road 2 Luxembourg,Stramme takken
ATTACH;FMTTYPE=image/jpeg:https://total-athlete.nl/wp-content/uploads/2023/07/20210604_112830-scaled-1.jpg
ORGANIZER;CN="Gerben Wassink":MAILTO:gerbenwassink@hotmail.com
END:VEVENT
END:VCALENDAR