BEGIN:VCALENDAR
VERSION:2.0
PRODID:-//Total Athlete - ECPv6.15.20//NONSGML v1.0//EN
CALSCALE:GREGORIAN
METHOD:PUBLISH
X-WR-CALNAME:Total Athlete
X-ORIGINAL-URL:https://total-athlete.nl
X-WR-CALDESC:Evenementen voor Total Athlete
REFRESH-INTERVAL;VALUE=DURATION:PT1H
X-Robots-Tag:noindex
X-PUBLISHED-TTL:PT1H
BEGIN:VTIMEZONE
TZID:Europe/Amsterdam
BEGIN:DAYLIGHT
TZOFFSETFROM:+0100
TZOFFSETTO:+0200
TZNAME:CEST
DTSTART:20220327T010000
END:DAYLIGHT
BEGIN:STANDARD
TZOFFSETFROM:+0200
TZOFFSETTO:+0100
TZNAME:CET
DTSTART:20221030T010000
END:STANDARD
BEGIN:DAYLIGHT
TZOFFSETFROM:+0100
TZOFFSETTO:+0200
TZNAME:CEST
DTSTART:20230326T010000
END:DAYLIGHT
BEGIN:STANDARD
TZOFFSETFROM:+0200
TZOFFSETTO:+0100
TZNAME:CET
DTSTART:20231029T010000
END:STANDARD
BEGIN:DAYLIGHT
TZOFFSETFROM:+0100
TZOFFSETTO:+0200
TZNAME:CEST
DTSTART:20240331T010000
END:DAYLIGHT
BEGIN:STANDARD
TZOFFSETFROM:+0200
TZOFFSETTO:+0100
TZNAME:CET
DTSTART:20241027T010000
END:STANDARD
END:VTIMEZONE
BEGIN:VEVENT
DTSTART;TZID=Europe/Amsterdam:20231007T221500
DTEND;TZID=Europe/Amsterdam:20231007T233000
DTSTAMP:20260425T040823
CREATED:20230923T121358Z
LAST-MODIFIED:20231222T071742Z
UID:6254-1696716900-1696721400@total-athlete.nl
SUMMARY:Info Avond Challenge Geraardsbergen
DESCRIPTION:Wil je de spanning voelen van het deelnemen aan een van de meest uitdagende triatlonevenementen? Dan is het nu het moment om Challenge Geraardsbergen in je agenda te zetten! Kom op onze informatieavond en bereid je samen voor op deze unieke race. \nIk nodig je uit om deel te nemen aan de groep atleten die zich hierop voorbereiden. Challenge Geraardsbergen is in juni 2024. Deze triathlon is veel meer dan alleen een race; het is een reis van zelfontdekking\, doorzettingsvermogen en presteren. \nSamen met gelijkgestemde triatleten zullen we trainen\, voorbereiden en elkaar motiveren om het beste uit onszelf te halen. We zullen niet alleen de fysieke uitdagingen aangaan\, maar ook mentaal sterker worden. En niet vergeten: heel veel plezier hebben op de weg hier naar toe! \nJe zult grenzen verleggen\, nieuwe vriendschappen sluiten en een ongelooflijke ervaring beleven die je voor altijd bij zal blijven. Want in de wereld van de triatlon is samen zoveel leuker dan alleen. \nDus waar wacht je nog op? Sluit je aan bij andere gepassioneerde triatleten en bereid je voor op de reis van je leven. Samen gaan we de Challenge Geraardsbergen volbrengen en jouw triatlonavontuur beginnen! Durf de uitdaging aan te gaan en kom op de informatieavond. Hier zal ik meer uitleg geven\, en kunnen we uitwisselen wat je nodig hebt. \nJij komt over de finishlijn met een geweldige tijd\, en we gaan samen feestvieren.
URL:https://total-athlete.nl/event/info-avond-challenge-geraardsbergen/
LOCATION:Total Athlete\, Beijumerweg 17\, Groningen\, Groningen\, 9737 AB\, Nederland
CATEGORIES:Road 2 Luxembourg,Triathlon
ATTACH;FMTTYPE=image/jpeg:https://total-athlete.nl/wp-content/uploads/2023/09/premium_image_1655229857.jpg-2-scaled-e1695478331143.jpg
END:VEVENT
END:VCALENDAR