BEGIN:VCALENDAR
VERSION:2.0
PRODID:-//Total Athlete - ECPv6.15.20//NONSGML v1.0//EN
CALSCALE:GREGORIAN
METHOD:PUBLISH
X-WR-CALNAME:Total Athlete
X-ORIGINAL-URL:https://total-athlete.nl
X-WR-CALDESC:Evenementen voor Total Athlete
REFRESH-INTERVAL;VALUE=DURATION:PT1H
X-Robots-Tag:noindex
X-PUBLISHED-TTL:PT1H
BEGIN:VTIMEZONE
TZID:Europe/Amsterdam
BEGIN:DAYLIGHT
TZOFFSETFROM:+0100
TZOFFSETTO:+0200
TZNAME:CEST
DTSTART:20230326T010000
END:DAYLIGHT
BEGIN:STANDARD
TZOFFSETFROM:+0200
TZOFFSETTO:+0100
TZNAME:CET
DTSTART:20231029T010000
END:STANDARD
BEGIN:DAYLIGHT
TZOFFSETFROM:+0100
TZOFFSETTO:+0200
TZNAME:CEST
DTSTART:20240331T010000
END:DAYLIGHT
BEGIN:STANDARD
TZOFFSETFROM:+0200
TZOFFSETTO:+0100
TZNAME:CET
DTSTART:20241027T010000
END:STANDARD
BEGIN:DAYLIGHT
TZOFFSETFROM:+0100
TZOFFSETTO:+0200
TZNAME:CEST
DTSTART:20250330T010000
END:DAYLIGHT
BEGIN:STANDARD
TZOFFSETFROM:+0200
TZOFFSETTO:+0100
TZNAME:CET
DTSTART:20251026T010000
END:STANDARD
END:VTIMEZONE
BEGIN:VEVENT
DTSTART;TZID=Europe/Amsterdam:20240417T190000
DTEND;TZID=Europe/Amsterdam:20240417T213000
DTSTAMP:20260422T140755
CREATED:20240314T161913Z
LAST-MODIFIED:20240403T091435Z
UID:6863-1713380400-1713389400@total-athlete.nl
SUMMARY:Workshop sportmassage
DESCRIPTION:Deze workshop is voor degene die graag iets extra’s willen weten over sportmassage. Deze workshop geeft een goed beeld over hoe de opleiding sportverzorger/masseur wordt gegeven. \nDe cursisten krijgen 50% theorieles bestaande uit: historie\, fysiologie en anatomie\, daarna 50% praktijkles. Dus zelf aan de slag!! \nNa de workshop heb je een aantal basisgrepen van een masseur geleerd die je zelf kan toepassen. De groepen bestaan uit maximaal 12 personen en je ontvangt een hand out en een certificaat  ter afsluiting. \nJan Douma biedt deze workshop speciaal aan voor geïnteresseerden van Total Athlete. Dus maak kans van deze unieke mogelijkheid!
URL:https://total-athlete.nl/event/workshop-sportmassage/
LOCATION:DoumaX\, Regattaweg 5\, Groningen\, 9731 AJ\, Nederland
CATEGORIES:Fietsen,Hardlopen,Triathlon,Zwemmen
ATTACH;FMTTYPE=image/jpeg:https://total-athlete.nl/wp-content/uploads/2024/03/DSCF6101.jpg
END:VEVENT
END:VCALENDAR